BEGIN:VCALENDAR
VERSION:2.0
PRODID:-//pretix//fachschaften.org_Tix//
BEGIN:VTIMEZONE
TZID:Europe/Berlin
BEGIN:STANDARD
DTSTART:20001029T040000
RRULE:FREQ=YEARLY;BYDAY=-1SU;BYMONTH=10
TZNAME:CET
TZOFFSETFROM:+0200
TZOFFSETTO:+0100
END:STANDARD
BEGIN:DAYLIGHT
DTSTART:20000326T030000
RRULE:FREQ=YEARLY;BYDAY=-1SU;BYMONTH=3
TZNAME:CEST
TZOFFSETFROM:+0100
TZOFFSETTO:+0200
END:DAYLIGHT
END:VTIMEZONE
BEGIN:VEVENT
UID:pretix-tudo-asta-kneipenquiz0122-0@pretix.fachschaften.org
DTSTART;TZID=Europe/Berlin:20220128T200000
DTEND;TZID=Europe/Berlin:20220128T210000
DESCRIPTION:Tickets: https://pretix.fachschaften.org/tudo-asta/kneipenquiz0
 122/\nEinlass: 28.01.2022 19:30\nVeranstalter: AStA der TU Dortmund
DTSTAMP:20260425T203844Z
LOCATION:Online über Zoom
SUMMARY:Kneipenquiz 🍻
END:VEVENT
END:VCALENDAR
