BEGIN:VCALENDAR
VERSION:2.0
PRODID:-//pretix//fachschaften.org_Tix//
BEGIN:VTIMEZONE
TZID:Europe/Berlin
BEGIN:STANDARD
DTSTART:20001029T040000
RRULE:FREQ=YEARLY;BYDAY=-1SU;BYMONTH=10
TZNAME:CET
TZOFFSETFROM:+0200
TZOFFSETTO:+0100
END:STANDARD
BEGIN:DAYLIGHT
DTSTART:20000326T030000
RRULE:FREQ=YEARLY;BYDAY=-1SU;BYMONTH=3
TZNAME:CEST
TZOFFSETFROM:+0100
TZOFFSETTO:+0200
END:DAYLIGHT
END:VTIMEZONE
BEGIN:VEVENT
UID:pretix-tudo-asta-escape-0@pretix.fachschaften.org
DTSTART;TZID=Europe/Berlin:20220301T200000
DTEND;TZID=Europe/Berlin:20220301T210000
DESCRIPTION:Tickets: https://pretix.fachschaften.org/tudo-asta/escape/\nVer
 anstalter: AStA der TU Dortmund
DTSTAMP:20260426T012544Z
LOCATION:Matrix/Element
SUMMARY:Digitaler Escape Room: Das Ferienhaus
END:VEVENT
END:VCALENDAR
